BEGIN:VCALENDAR
VERSION:2.0
PRODID:-//ZContent.net//ZapCalLib 1.0//EN
CALSCALE:GREGORIAN
METHOD:PUBLISH
BEGIN:VEVENT
UID:69e623b0dd1eb@usbands.org
SUMMARY:New England States Championships - (I A\, II A)
DTSTART:20221029T133000
DTEND:20221029T190000
DTSTAMP:20260420T130136
LOCATION:Vernon\, CT
DESCRIPTION:New England States Championships - (I A\, II A)
END:VEVENT
END:VCALENDAR
