BEGIN:VCALENDAR
VERSION:2.0
PRODID:-//ZContent.net//ZapCalLib 1.0//EN
CALSCALE:GREGORIAN
METHOD:PUBLISH
BEGIN:VEVENT
UID:69e610c870f08@usbands.org
SUMMARY:USBands Mid Atlantic Regional Championship
DTSTART:20221029T074500
DTEND:20221029T190000
DTSTAMP:20260420T114056
LOCATION:Camp Hill\, PA
DESCRIPTION:USBands Mid Atlantic Regional Championship
END:VEVENT
END:VCALENDAR
