BEGIN:VCALENDAR
VERSION:2.0
PRODID:-//ZContent.net//ZapCalLib 1.0//EN
CALSCALE:GREGORIAN
METHOD:PUBLISH
BEGIN:VEVENT
UID:69e610c918a7c@usbands.org
SUMMARY:USBands A Class National Championships (Groups III\, IV)
DTSTART:20221106T060000
DTEND:20221106T190000
DTSTAMP:20260420T114057
LOCATION:Allentown\, PA
DESCRIPTION:USBands A Class National Championships (Groups III\, IV)
END:VEVENT
END:VCALENDAR
