BEGIN:VCALENDAR
VERSION:2.0
PRODID:-//ZContent.net//ZapCalLib 1.0//EN
CALSCALE:GREGORIAN
METHOD:PUBLISH
BEGIN:VEVENT
UID:69e623b0615a6@usbands.org
SUMMARY:USBands Open Class National Championships
DTSTART:20221105T050000
DTEND:20221105T190000
DTSTAMP:20260420T130136
LOCATION:East Rutherford\, NJ
DESCRIPTION:USBands Open Class National Championships
END:VEVENT
END:VCALENDAR
