BEGIN:VCALENDAR
VERSION:2.0
PRODID:-//ZContent.net//ZapCalLib 1.0//EN
CALSCALE:GREGORIAN
METHOD:PUBLISH
BEGIN:VEVENT
UID:69e6173e8ea00@usbands.org
SUMMARY:USBands Show-up & Show-out on the Hill
DTSTART:20221015T085000
DTEND:20221015T190000
DTSTAMP:20260420T120830
LOCATION:Prairie View\, TX
DESCRIPTION:USBands Show-up & Show-out on the Hill
END:VEVENT
END:VCALENDAR
