BEGIN:VCALENDAR
VERSION:2.0
PRODID:-//ZContent.net//ZapCalLib 1.0//EN
CALSCALE:GREGORIAN
METHOD:PUBLISH
BEGIN:VEVENT
UID:69e610cd24d64@usbands.org
SUMMARY:Norwalk High School
DTSTART:20221008T135000
DTEND:20221008T150100
DTSTAMP:20260420T114101
LOCATION:Norwalk\, CT
DESCRIPTION:Norwalk High School
END:VEVENT
END:VCALENDAR
