BEGIN:VCALENDAR
VERSION:2.0
PRODID:-//ZContent.net//ZapCalLib 1.0//EN
CALSCALE:GREGORIAN
METHOD:PUBLISH
BEGIN:VEVENT
UID:69e6292a07408@usbands.org
SUMMARY:Cheshire High School
DTSTART:20221008T145000
DTEND:20221008T190100
DTSTAMP:20260420T132458
LOCATION:Cheshire\, CT
DESCRIPTION:Cheshire High School
END:VEVENT
END:VCALENDAR
