BEGIN:VCALENDAR
VERSION:2.0
PRODID:-//ZContent.net//ZapCalLib 1.0//EN
CALSCALE:GREGORIAN
METHOD:PUBLISH
BEGIN:VEVENT
UID:69e610c97151a@usbands.org
SUMMARY:Williamsport High School
DTSTART:20221008T145000
DTEND:20221008T190100
DTSTAMP:20260420T114057
LOCATION:Williamsport\, MD
DESCRIPTION:Williamsport High School
END:VEVENT
END:VCALENDAR
