BEGIN:VCALENDAR
VERSION:2.0
PRODID:-//ZContent.net//ZapCalLib 1.0//EN
CALSCALE:GREGORIAN
METHOD:PUBLISH
BEGIN:VEVENT
UID:69e623b0501fc@usbands.org
SUMMARY:USBands Mid-Atlantic Showcase
DTSTART:20221015T130000
DTEND:20221015T180300
DTSTAMP:20260420T130136
LOCATION:Owings Mills\, MD
DESCRIPTION:USBands Mid-Atlantic Showcase
END:VEVENT
END:VCALENDAR
