BEGIN:VCALENDAR
VERSION:2.0
PRODID:-//ZContent.net//ZapCalLib 1.0//EN
CALSCALE:GREGORIAN
METHOD:PUBLISH
BEGIN:VEVENT
UID:69e610c82ddc1@usbands.org
SUMMARY:USBands Showdown in the Capitol
DTSTART:20221105T080000
DTEND:20221105T200000
DTSTAMP:20260420T114056
LOCATION:Raleigh\, NC
DESCRIPTION:USBands Showdown in the Capitol
END:VEVENT
END:VCALENDAR
