BEGIN:VCALENDAR
VERSION:2.0
PRODID:-//ZContent.net//ZapCalLib 1.0//EN
CALSCALE:GREGORIAN
METHOD:PUBLISH
BEGIN:VEVENT
UID:69e610cc3a6d5@usbands.org
SUMMARY:Kuna High School
DTSTART:20221001T105000
DTEND:20221001T210200
DTSTAMP:20260420T114100
LOCATION:Kuna\, ID
DESCRIPTION:Kuna High School
END:VEVENT
END:VCALENDAR
