BEGIN:VCALENDAR
VERSION:2.0
PRODID:-//ZContent.net//ZapCalLib 1.0//EN
CALSCALE:GREGORIAN
METHOD:PUBLISH
BEGIN:VEVENT
UID:69e610ceee30b@usbands.org
SUMMARY:New England States Championships (IIIA\, IVA\, VA\, Open)
DTSTART:20221029T060000
DTEND:20221029T190000
DTSTAMP:20260420T114102
LOCATION:New Britain\, CT
DESCRIPTION:New England States Championships (IIIA\, IVA\, VA\, Open)
END:VEVENT
END:VCALENDAR
