BEGIN:VCALENDAR
VERSION:2.0
PRODID:-//ZContent.net//ZapCalLib 1.0//EN
CALSCALE:GREGORIAN
METHOD:PUBLISH
BEGIN:VEVENT
UID:69e610ce26138@usbands.org
SUMMARY:New Jersey State Championships (IIIA\, IVA\, VA\, IO\, IIO\, IIIO\,
  VO)
DTSTART:20221029T100000
DTEND:20221029T190000
DTSTAMP:20260420T114102
LOCATION:South Brunswick\, NJ
DESCRIPTION:New Jersey State Championships (IIIA\, IVA\, VA\, IO\, IIO\, II
 IO\, VO)
END:VEVENT
END:VCALENDAR
