BEGIN:VCALENDAR
VERSION:2.0
PRODID:-//ZContent.net//ZapCalLib 1.0//EN
CALSCALE:GREGORIAN
METHOD:PUBLISH
BEGIN:VEVENT
UID:69e623c4db5c6@usbands.org
SUMMARY:USBands Austin Finale
DTSTART:20221105T090000
DTEND:20221105T210000
DTSTAMP:20260420T130156
LOCATION:Austin\, TX
DESCRIPTION:USBands Austin Finale
END:VEVENT
END:VCALENDAR
