BEGIN:VCALENDAR
VERSION:2.0
PRODID:-//ZContent.net//ZapCalLib 1.0//EN
CALSCALE:GREGORIAN
METHOD:PUBLISH
BEGIN:VEVENT
UID:69e610cd51ac1@usbands.org
SUMMARY:AT&T Stadium Classic
DTSTART:20221004T070000
DTEND:20221004T190000
DTSTAMP:20260420T114101
LOCATION:Arlington\, TX
DESCRIPTION:AT&T Stadium Classic
END:VEVENT
END:VCALENDAR
