BEGIN:VCALENDAR
VERSION:2.0
PRODID:-//ZContent.net//ZapCalLib 1.0//EN
CALSCALE:GREGORIAN
METHOD:PUBLISH
BEGIN:VEVENT
UID:69e610cb7b367@usbands.org
SUMMARY:Old Bridge High School
DTSTART:20221022T145000
DTEND:20221022T190000
DTSTAMP:20260420T114059
LOCATION:Old Bridge\, NJ
DESCRIPTION:Old Bridge High School
END:VEVENT
END:VCALENDAR
