BEGIN:VCALENDAR
VERSION:2.0
PRODID:-//ZContent.net//ZapCalLib 1.0//EN
CALSCALE:GREGORIAN
METHOD:PUBLISH
BEGIN:VEVENT
UID:69e6239443a0a@usbands.org
SUMMARY:Hamilton High School West
DTSTART:20221015T085000
DTEND:20221015T180000
DTSTAMP:20260420T130108
LOCATION:Hamilton\, NJ
DESCRIPTION:Hamilton High School West
END:VEVENT
END:VCALENDAR
