BEGIN:VCALENDAR
VERSION:2.0
PRODID:-//ZContent.net//ZapCalLib 1.0//EN
CALSCALE:GREGORIAN
METHOD:PUBLISH
BEGIN:VEVENT
UID:69e623b0c4b3a@usbands.org
SUMMARY:Caldwell High School
DTSTART:20220924T103500
DTEND:20220924T170000
DTSTAMP:20260420T130136
LOCATION:Caldwell\, ID
DESCRIPTION:Caldwell High School
END:VEVENT
END:VCALENDAR
