BEGIN:VCALENDAR
VERSION:2.0
PRODID:-//ZContent.net//ZapCalLib 1.0//EN
CALSCALE:GREGORIAN
METHOD:PUBLISH
BEGIN:VEVENT
UID:69e610c9dfc0c@usbands.org
SUMMARY:USBands Southeast Showdown
DTSTART:20221009T060000
DTEND:20221009T180000
DTSTAMP:20260420T114057
LOCATION:Montgomery\, AL
DESCRIPTION:USBands Southeast Showdown
END:VEVENT
END:VCALENDAR
