BEGIN:VCALENDAR
VERSION:2.0
PRODID:-//ZContent.net//ZapCalLib 1.0//EN
CALSCALE:GREGORIAN
METHOD:PUBLISH
BEGIN:VEVENT
UID:69e623b05415d@usbands.org
SUMMARY:Burley High School
DTSTART:20221022T112000
DTEND:20221022T210000
DTSTAMP:20260420T130136
LOCATION:Burley\, ID
DESCRIPTION:Burley High School
END:VEVENT
END:VCALENDAR
