BEGIN:VCALENDAR
VERSION:2.0
PRODID:-//ZContent.net//ZapCalLib 1.0//EN
CALSCALE:GREGORIAN
METHOD:PUBLISH
BEGIN:VEVENT
UID:69e5fbb15c42e@usbands.org
SUMMARY:USBands A Class National Championships (I A\, II A\, V A)
DTSTART:20231104T053000
DTEND:20231104T180000
DTSTAMP:20260420T101057
LOCATION:Allentown\, PA
DESCRIPTION:USBands A Class National Championships (I A\, II A\, V A)
END:VEVENT
END:VCALENDAR
