BEGIN:VCALENDAR
VERSION:2.0
PRODID:-//ZContent.net//ZapCalLib 1.0//EN
CALSCALE:GREGORIAN
METHOD:PUBLISH
BEGIN:VEVENT
UID:69e5fbb331ba7@usbands.org
SUMMARY:Southwestern Championship Presented by Service Experts
DTSTART:20231106T060000
DTEND:20231106T210000
DTSTAMP:20260420T101059
LOCATION:Arlington\, TX
DESCRIPTION:Southwestern Championship Presented by Service Experts
END:VEVENT
END:VCALENDAR
