BEGIN:VCALENDAR
VERSION:2.0
PRODID:-//ZContent.net//ZapCalLib 1.0//EN
CALSCALE:GREGORIAN
METHOD:PUBLISH
BEGIN:VEVENT
UID:69e5fbd5e8509@usbands.org
SUMMARY:Southeastern Texas Championship
DTSTART:20231104T060000
DTEND:20231104T210000
DTSTAMP:20260420T101133
LOCATION:Houston\, TX
DESCRIPTION:Southeastern Texas Championship
END:VEVENT
END:VCALENDAR
