BEGIN:VCALENDAR
VERSION:2.0
PRODID:-//ZContent.net//ZapCalLib 1.0//EN
CALSCALE:GREGORIAN
METHOD:PUBLISH
BEGIN:VEVENT
UID:69e5fbb2d3a2f@usbands.org
SUMMARY:Saginaw Regional
DTSTART:20230923T090000
DTEND:20230923T210000
DTSTAMP:20260420T101058
LOCATION:Saginaw\, TX
DESCRIPTION:Saginaw Regional
END:VEVENT
END:VCALENDAR
