BEGIN:VCALENDAR
VERSION:2.0
PRODID:-//ZContent.net//ZapCalLib 1.0//EN
CALSCALE:GREGORIAN
METHOD:PUBLISH
BEGIN:VEVENT
UID:69e5fbd5d1779@usbands.org
SUMMARY:Baytown Showcase
DTSTART:20230923T100000
DTEND:20230923T210000
DTSTAMP:20260420T101133
LOCATION:Baytown\, TX
DESCRIPTION:Baytown Showcase
END:VEVENT
END:VCALENDAR
