BEGIN:VCALENDAR
VERSION:2.0
PRODID:-//ZContent.net//ZapCalLib 1.0//EN
CALSCALE:GREGORIAN
METHOD:PUBLISH
BEGIN:VEVENT
UID:69e5fbd68fc18@usbands.org
SUMMARY:Marine Corps Invitational
DTSTART:20231014T060000
DTEND:20231014T180000
DTSTAMP:20260420T101134
LOCATION:Annapolis\, MD
DESCRIPTION:Marine Corps Invitational
END:VEVENT
END:VCALENDAR
