BEGIN:VCALENDAR
VERSION:2.0
PRODID:-//ZContent.net//ZapCalLib 1.0//EN
CALSCALE:GREGORIAN
METHOD:PUBLISH
BEGIN:VEVENT
UID:69e5fbd32e437@usbands.org
SUMMARY:Bethel High School
DTSTART:20230909T150000
DTEND:20230909T190000
DTSTAMP:20260420T101131
LOCATION:Bethel\, CT
DESCRIPTION:Bethel High School
END:VEVENT
END:VCALENDAR
