BEGIN:VCALENDAR
VERSION:2.0
PRODID:-//ZContent.net//ZapCalLib 1.0//EN
CALSCALE:GREGORIAN
METHOD:PUBLISH
BEGIN:VEVENT
UID:69e5fc116d1da@usbands.org
SUMMARY:Edison High School
DTSTART:20230909T102000
DTEND:20230909T190000
DTSTAMP:20260420T101233
LOCATION:Edison\, NJ
DESCRIPTION:Edison High School
END:VEVENT
END:VCALENDAR
