BEGIN:VCALENDAR
VERSION:2.0
PRODID:-//ZContent.net//ZapCalLib 1.0//EN
CALSCALE:GREGORIAN
METHOD:PUBLISH
BEGIN:VEVENT
UID:69e5fc0cec1ca@usbands.org
SUMMARY:Passaic Valley High School
DTSTART:20230916T115000
DTEND:20230916T190000
DTSTAMP:20260420T101228
LOCATION:Little Falls\, NJ
DESCRIPTION:Passaic Valley High School
END:VEVENT
END:VCALENDAR
