BEGIN:VCALENDAR
VERSION:2.0
PRODID:-//ZContent.net//ZapCalLib 1.0//EN
CALSCALE:GREGORIAN
METHOD:PUBLISH
BEGIN:VEVENT
UID:69e5fbb4c21f6@usbands.org
SUMMARY:USBands @ Walt Snyder Stadium
DTSTART:20230916T140000
DTEND:20230916T190000
DTSTAMP:20260420T101100
LOCATION:Newtown\, PA
DESCRIPTION:USBands @ Walt Snyder Stadium
END:VEVENT
END:VCALENDAR
