BEGIN:VCALENDAR
VERSION:2.0
PRODID:-//ZContent.net//ZapCalLib 1.0//EN
CALSCALE:GREGORIAN
METHOD:PUBLISH
BEGIN:VEVENT
UID:69e5fbd418e25@usbands.org
SUMMARY:Trumbull High School
DTSTART:20230930T150000
DTEND:20230930T190000
DTSTAMP:20260420T101132
LOCATION:Trumbull\, CT
DESCRIPTION:Trumbull High School
END:VEVENT
END:VCALENDAR
