BEGIN:VCALENDAR
VERSION:2.0
PRODID:-//ZContent.net//ZapCalLib 1.0//EN
CALSCALE:GREGORIAN
METHOD:PUBLISH
BEGIN:VEVENT
UID:69e5fbd5459e4@usbands.org
SUMMARY:Norwich Free Academy
DTSTART:20230930T150500
DTEND:20230930T190000
DTSTAMP:20260420T101133
LOCATION:Norwich\, CT
DESCRIPTION:Norwich Free Academy
END:VEVENT
END:VCALENDAR
