BEGIN:VCALENDAR
VERSION:2.0
PRODID:-//ZContent.net//ZapCalLib 1.0//EN
CALSCALE:GREGORIAN
METHOD:PUBLISH
BEGIN:VEVENT
UID:69e5fbd4b40d3@usbands.org
SUMMARY:Jackson Memorial High School
DTSTART:20230930T150000
DTEND:20230930T190000
DTSTAMP:20260420T101132
LOCATION:Jackson Township\, NJ
DESCRIPTION:Jackson Memorial High School
END:VEVENT
END:VCALENDAR
