BEGIN:VCALENDAR
VERSION:2.0
PRODID:-//ZContent.net//ZapCalLib 1.0//EN
CALSCALE:GREGORIAN
METHOD:PUBLISH
BEGIN:VEVENT
UID:69e5fbb25b58a@usbands.org
SUMMARY:West Milford High School
DTSTART:20230930T112000
DTEND:20230930T190000
DTSTAMP:20260420T101058
LOCATION:West Milford\, NJ
DESCRIPTION:West Milford High School
END:VEVENT
END:VCALENDAR
