BEGIN:VCALENDAR
VERSION:2.0
PRODID:-//ZContent.net//ZapCalLib 1.0//EN
CALSCALE:GREGORIAN
METHOD:PUBLISH
BEGIN:VEVENT
UID:69e5fbb28d1ac@usbands.org
SUMMARY:Southington High School (Rescheduled)
DTSTART:20231022T114500
DTEND:20231022T190100
DTSTAMP:20260420T101058
LOCATION:Southington\, CT
DESCRIPTION:Southington High School (Rescheduled)
END:VEVENT
END:VCALENDAR
