BEGIN:VCALENDAR
VERSION:2.0
PRODID:-//ZContent.net//ZapCalLib 1.0//EN
CALSCALE:GREGORIAN
METHOD:PUBLISH
BEGIN:VEVENT
UID:69e5fbb1122eb@usbands.org
SUMMARY:Mechanicsburg High School
DTSTART:20230930T145000
DTEND:20230930T190000
DTSTAMP:20260420T101057
LOCATION:Mechanicsburg\, PA
DESCRIPTION:Mechanicsburg High School
END:VEVENT
END:VCALENDAR
