BEGIN:VCALENDAR
VERSION:2.0
PRODID:-//ZContent.net//ZapCalLib 1.0//EN
CALSCALE:GREGORIAN
METHOD:PUBLISH
BEGIN:VEVENT
UID:69e5fbb2c037e@usbands.org
SUMMARY:Cheshire High School
DTSTART:20231008T103000
DTEND:20231008T123100
DTSTAMP:20260420T101058
LOCATION:Cheshire\, CT
DESCRIPTION:Cheshire High School
END:VEVENT
END:VCALENDAR
