BEGIN:VCALENDAR
VERSION:2.0
PRODID:-//ZContent.net//ZapCalLib 1.0//EN
CALSCALE:GREGORIAN
METHOD:PUBLISH
BEGIN:VEVENT
UID:69e5fbd502a35@usbands.org
SUMMARY:Leonardtown High School
DTSTART:20231007T115000
DTEND:20231007T190000
DTSTAMP:20260420T101133
LOCATION:Leonardtown\, MD
DESCRIPTION:Leonardtown High School
END:VEVENT
END:VCALENDAR
