BEGIN:VCALENDAR
VERSION:2.0
PRODID:-//ZContent.net//ZapCalLib 1.0//EN
CALSCALE:GREGORIAN
METHOD:PUBLISH
BEGIN:VEVENT
UID:69e5fbd678ea6@usbands.org
SUMMARY:Egg Harbor Township High School
DTSTART:20231021T145000
DTEND:20231021T190000
DTSTAMP:20260420T101134
LOCATION:Egg Harbor\, NJ
DESCRIPTION:Egg Harbor Township High School
END:VEVENT
END:VCALENDAR
