BEGIN:VCALENDAR
VERSION:2.0
PRODID:-//ZContent.net//ZapCalLib 1.0//EN
CALSCALE:GREGORIAN
METHOD:PUBLISH
BEGIN:VEVENT
UID:69e5fbd1cfd13@usbands.org
SUMMARY:Vernon Township High School
DTSTART:20231021T130000
DTEND:20231021T180100
DTSTAMP:20260420T101129
LOCATION:Glenwood\, NJ
DESCRIPTION:Vernon Township High School
END:VEVENT
END:VCALENDAR
