BEGIN:VCALENDAR
VERSION:2.0
PRODID:-//ZContent.net//ZapCalLib 1.0//EN
CALSCALE:GREGORIAN
METHOD:PUBLISH
BEGIN:VEVENT
UID:69e5fbb39238d@usbands.org
SUMMARY:Robbinsville High School
DTSTART:20231021T124500
DTEND:20231021T192700
DTSTAMP:20260420T101059
LOCATION:Robbinsville\, NJ
DESCRIPTION:Robbinsville High School
END:VEVENT
END:VCALENDAR
