BEGIN:VCALENDAR
VERSION:2.0
PRODID:-//ZContent.net//ZapCalLib 1.0//EN
CALSCALE:GREGORIAN
METHOD:PUBLISH
BEGIN:VEVENT
UID:69e5fbd76428c@usbands.org
SUMMARY:Ridge High School
DTSTART:20231021T115000
DTEND:20231021T190000
DTSTAMP:20260420T101135
LOCATION:Basking Ridge\, NJ
DESCRIPTION:Ridge High School
END:VEVENT
END:VCALENDAR
