BEGIN:VCALENDAR
VERSION:2.0
PRODID:-//ZContent.net//ZapCalLib 1.0//EN
CALSCALE:GREGORIAN
METHOD:PUBLISH
BEGIN:VEVENT
UID:69e5fbd5bb8e7@usbands.org
SUMMARY:Old Bridge High School
DTSTART:20231021T095000
DTEND:20231021T190000
DTSTAMP:20260420T101133
LOCATION:Old Bridge\, NJ
DESCRIPTION:Old Bridge High School
END:VEVENT
END:VCALENDAR
