BEGIN:VCALENDAR
VERSION:2.0
PRODID:-//ZContent.net//ZapCalLib 1.0//EN
CALSCALE:GREGORIAN
METHOD:PUBLISH
BEGIN:VEVENT
UID:69e5fc11dc20d@usbands.org
SUMMARY:Burley High School
DTSTART:20231014T105000
DTEND:20231014T210000
DTSTAMP:20260420T101233
LOCATION:Burley\, ID
DESCRIPTION:Burley High School
END:VEVENT
END:VCALENDAR
