BEGIN:VCALENDAR
VERSION:2.0
PRODID:-//ZContent.net//ZapCalLib 1.0//EN
CALSCALE:GREGORIAN
METHOD:PUBLISH
BEGIN:VEVENT
UID:69e5fbd4e04ce@usbands.org
SUMMARY:Unionville High School
DTSTART:20231014T085000
DTEND:20231014T190000
DTSTAMP:20260420T101132
LOCATION:Kennett Square\, PA
DESCRIPTION:Unionville High School
END:VEVENT
END:VCALENDAR
