BEGIN:VCALENDAR
VERSION:2.0
PRODID:-//ZContent.net//ZapCalLib 1.0//EN
CALSCALE:GREGORIAN
METHOD:PUBLISH
BEGIN:VEVENT
UID:69e5fbd15cec7@usbands.org
SUMMARY:North Penn High School - Rescheduled from 10/14
DTSTART:20231026T160000
DTEND:20231026T190100
DTSTAMP:20260420T101129
LOCATION:Lansdale\, PA
DESCRIPTION:North Penn High School - Rescheduled from 10/14
END:VEVENT
END:VCALENDAR
