BEGIN:VCALENDAR
VERSION:2.0
PRODID:-//ZContent.net//ZapCalLib 1.0//EN
CALSCALE:GREGORIAN
METHOD:PUBLISH
BEGIN:VEVENT
UID:69e5fbd61fa87@usbands.org
SUMMARY:Northern Highlands High School
DTSTART:20231014T150500
DTEND:20231014T190000
DTSTAMP:20260420T101134
LOCATION:Allendale\, NJ
DESCRIPTION:Northern Highlands High School
END:VEVENT
END:VCALENDAR
