BEGIN:VCALENDAR
VERSION:2.0
PRODID:-//ZContent.net//ZapCalLib 1.0//EN
CALSCALE:GREGORIAN
METHOD:PUBLISH
BEGIN:VEVENT
UID:69e5fbd52f09b@usbands.org
SUMMARY:Hightstown High School (Rescheduled)
DTSTART:20231020T145000
DTEND:20231020T145100
DTSTAMP:20260420T101133
LOCATION:Hightstown\, NJ
DESCRIPTION:Hightstown High School (Rescheduled)
END:VEVENT
END:VCALENDAR
