BEGIN:VCALENDAR
VERSION:2.0
PRODID:-//ZContent.net//ZapCalLib 1.0//EN
CALSCALE:GREGORIAN
METHOD:PUBLISH
BEGIN:VEVENT
UID:69e5fc1199f5e@usbands.org
SUMMARY:Bergenfield High School
DTSTART:20231008T095000
DTEND:20231008T190100
DTSTAMP:20260420T101233
LOCATION:Bergenfield\, NJ
DESCRIPTION:Bergenfield High School
END:VEVENT
END:VCALENDAR
