BEGIN:VCALENDAR
VERSION:2.0
PRODID:-//ZContent.net//ZapCalLib 1.0//EN
CALSCALE:GREGORIAN
METHOD:PUBLISH
BEGIN:VEVENT
UID:69e5fbd70adb6@usbands.org
SUMMARY:Lyman Hall High School
DTSTART:20231014T122000
DTEND:20231014T190000
DTSTAMP:20260420T101135
LOCATION:Wallingford\, CT
DESCRIPTION:Lyman Hall High School
END:VEVENT
END:VCALENDAR
